Workbook

Sheet Start
E2: Urenregistratie ZZP
B3: Jouw zaken juridisch dichtgetimmerd.
B5: Instellingen | E5: Zo werkt het
B6: Naam onderneming | C6: Mijn Onderneming | E6: 1. Vul op dit tabblad je naam, het jaar en je uurtarief in.
B7: Jaar | C7: 2026 | E7: 2. Zet op het tabblad Klanten je klanten of projecten neer (max. 30).
B8: Standaard uurtarief (excl. btw) | C8: 75 | E8: 3. Schrijf op het tabblad Uren elke werkdag je uren. Kies een klant uit de lijst,
B9: Urencriterium (uren per jaar) | C9: 1225 | E9: kies Direct (factureerbaar) of Indirect (administratie, acquisitie, studie, reistijd).
B10: Startdatum registratie | C10: =DATE(C7,1,1) -> 46023 | E10: 4. Het tabblad Overzicht rekent alles uit: totaal, per maand, per klant en hoe ver je bent
B11: Blauwe cellen met witte achtergrond kun je aanpassen. | E11: met het urencriterium van 1.225 uur voor de zelfstandigenaftrek.
E13: Waarom bijhouden?
E14: De Belastingdienst mag bij een controle je urenadministratie opvragen. Zonder sluitende
E15: registratie vervalt je recht op zelfstandigenaftrek, startersaftrek en mkb-winstvrijstelling
E16: kan ter discussie komen. Alle uren voor je onderneming tellen mee, ook indirecte uren.
E17: Let op: ben je ook in loondienst, dan moet je (na je startjaren) meer dan de helft van
E18: je werktijd aan je onderneming besteden.
E20: Bewaar dit bestand 7 jaar bij je administratie. Formules zijn beveiligd zodat je niets
E21: per ongeluk kapot maakt. Meer gratis tools en documenten: www.bewijsschrift.nl
E24: © Bewijsschrift.nl · www.bewijsschrift.nl · Gratis tool · Geen fiscaal advies, raadpleeg bij twijfel je adviseur.
B27: Bewijsschrift.nl · Jouw zaken juridisch dichtgetimmerd · www.bewijsschrift.nl

Sheet Overzicht
B2: Overzicht | C2: =Start!C6&" · "&Start!C7 -> Mijn Onderneming · 2026
B4: Kerncijfers | H4: Per klant / project
B5: Totaal geregistreerde uren | C5: =SUM(Uren!$H$6:$H$605) -> 4.75 | H5: Klant / project | I5: Uren | J5: Waarde (€)
B6: Directe (factureerbare) uren | C6: =SUMIF(Uren!$G$6:$G$605,"Direct",Uren!$H$6:$H$605) -> 3.5 | H6: =IF(Klanten!B6="","",Klanten!B6) -> Voorbeeld B.V. | I6: =IF(Klanten!B6="","",SUMIF(Uren!$E$6:$E$605,Klanten!B6,Uren!$H$6:$H$605)) -> 3.5 | J6: =IF(Klanten!B6="","",SUMIF(Uren!$E$6:$E$605,Klanten!B6,Uren!$I$6:$I$605)) -> 297.5
B7: Indirecte uren | C7: =SUMIF(Uren!$G$6:$G$605,"Indirect",Uren!$H$6:$H$605) -> 1.25 | H7: =IF(Klanten!B7="","",Klanten!B7) | I7: =IF(Klanten!B7="","",SUMIF(Uren!$E$6:$E$605,Klanten!B7,Uren!$H$6:$H$605)) | J7: =IF(Klanten!B7="","",SUMIF(Uren!$E$6:$E$605,Klanten!B7,Uren!$I$6:$I$605))
B8: Aandeel direct | C8: =IF(C5=0,0,C6/C5) -> 0.73684211 | H8: =IF(Klanten!B8="","",Klanten!B8) | I8: =IF(Klanten!B8="","",SUMIF(Uren!$E$6:$E$605,Klanten!B8,Uren!$H$6:$H$605)) | J8: =IF(Klanten!B8="","",SUMIF(Uren!$E$6:$E$605,Klanten!B8,Uren!$I$6:$I$605))
B9: Waarde directe uren (excl. btw) | C9: =SUM(Uren!$I$6:$I$605) -> 297.5 | H9: =IF(Klanten!B9="","",Klanten!B9) | I9: =IF(Klanten!B9="","",SUMIF(Uren!$E$6:$E$605,Klanten!B9,Uren!$H$6:$H$605)) | J9: =IF(Klanten!B9="","",SUMIF(Uren!$E$6:$E$605,Klanten!B9,Uren!$I$6:$I$605))
B10: Aantal geregistreerde dagen | C10: =SUMPRODUCT((Uren!$B$6:$B$605<>"")/COUNTIF(Uren!$B$6:$B$605,Uren!$B$6:$B$605&"")) -> 1 | H10: =IF(Klanten!B10="","",Klanten!B10) | I10: =IF(Klanten!B10="","",SUMIF(Uren!$E$6:$E$605,Klanten!B10,Uren!$H$6:$H$605)) | J10: =IF(Klanten!B10="","",SUMIF(Uren!$E$6:$E$605,Klanten!B10,Uren!$I$6:$I$605))
B11: Gemiddeld uren per geregistreerde dag | C11: =IF(C10=0,0,C5/C10) -> 4.75 | H11: =IF(Klanten!B11="","",Klanten!B11) | I11: =IF(Klanten!B11="","",SUMIF(Uren!$E$6:$E$605,Klanten!B11,Uren!$H$6:$H$605)) | J11: =IF(Klanten!B11="","",SUMIF(Uren!$E$6:$E$605,Klanten!B11,Uren!$I$6:$I$605))
H12: =IF(Klanten!B12="","",Klanten!B12) | I12: =IF(Klanten!B12="","",SUMIF(Uren!$E$6:$E$605,Klanten!B12,Uren!$H$6:$H$605)) | J12: =IF(Klanten!B12="","",SUMIF(Uren!$E$6:$E$605,Klanten!B12,Uren!$I$6:$I$605))
B13: Urencriterium | H13: =IF(Klanten!B13="","",Klanten!B13) | I13: =IF(Klanten!B13="","",SUMIF(Uren!$E$6:$E$605,Klanten!B13,Uren!$H$6:$H$605)) | J13: =IF(Klanten!B13="","",SUMIF(Uren!$E$6:$E$605,Klanten!B13,Uren!$I$6:$I$605))
B14: Norm (uren per jaar) | C14: =Start!C9 -> 1225 | H14: =IF(Klanten!B14="","",Klanten!B14) | I14: =IF(Klanten!B14="","",SUMIF(Uren!$E$6:$E$605,Klanten!B14,Uren!$H$6:$H$605)) | J14: =IF(Klanten!B14="","",SUMIF(Uren!$E$6:$E$605,Klanten!B14,Uren!$I$6:$I$605))
B15: Geregistreerd tot nu toe | C15: =C5 -> 4.75 | H15: =IF(Klanten!B15="","",Klanten!B15) | I15: =IF(Klanten!B15="","",SUMIF(Uren!$E$6:$E$605,Klanten!B15,Uren!$H$6:$H$605)) | J15: =IF(Klanten!B15="","",SUMIF(Uren!$E$6:$E$605,Klanten!B15,Uren!$I$6:$I$605))
B16: Nog te gaan | C16: =MAX(0,C14-C15) -> 1220.25 | H16: =IF(Klanten!B16="","",Klanten!B16) | I16: =IF(Klanten!B16="","",SUMIF(Uren!$E$6:$E$605,Klanten!B16,Uren!$H$6:$H$605)) | J16: =IF(Klanten!B16="","",SUMIF(Uren!$E$6:$E$605,Klanten!B16,Uren!$I$6:$I$605))
B17: Voortgang | C17: =IF(C14=0,0,MIN(1,C15/C14)) -> 0.003877551 | H17: =IF(Klanten!B17="","",Klanten!B17) | I17: =IF(Klanten!B17="","",SUMIF(Uren!$E$6:$E$605,Klanten!B17,Uren!$H$6:$H$605)) | J17: =IF(Klanten!B17="","",SUMIF(Uren!$E$6:$E$605,Klanten!B17,Uren!$I$6:$I$605))
B18: Laatste geregistreerde datum | C18: =IF(COUNT(Uren!$B$6:$B$605)=0,"",MAX(Uren!$B$6:$B$605)) -> 46027 | H18: =IF(Klanten!B18="","",Klanten!B18) | I18: =IF(Klanten!B18="","",SUMIF(Uren!$E$6:$E$605,Klanten!B18,Uren!$H$6:$H$605)) | J18: =IF(Klanten!B18="","",SUMIF(Uren!$E$6:$E$605,Klanten!B18,Uren!$I$6:$I$605))
B19: Weken verstreken in het jaar | C19: =IF(C18="",0,MAX(1,MIN(52,ROUNDUP((C18-DATE(Start!C7,1,1)+1)/7,0)))) -> 1 | H19: =IF(Klanten!B19="","",Klanten!B19) | I19: =IF(Klanten!B19="","",SUMIF(Uren!$E$6:$E$605,Klanten!B19,Uren!$H$6:$H$605)) | J19: =IF(Klanten!B19="","",SUMIF(Uren!$E$6:$E$605,Klanten!B19,Uren!$I$6:$I$605))
B20: Prognose einde jaar (huidig tempo) | C20: =IF(C19=0,0,C15/C19*52) -> 247 | H20: =IF(Klanten!B20="","",Klanten!B20) | I20: =IF(Klanten!B20="","",SUMIF(Uren!$E$6:$E$605,Klanten!B20,Uren!$H$6:$H$605)) | J20: =IF(Klanten!B20="","",SUMIF(Uren!$E$6:$E$605,Klanten!B20,Uren!$I$6:$I$605))
B21: Nodig per resterende week | C21: =IF(C19>=52,C16,C16/(52-C19)) -> 23.926471 | H21: =IF(Klanten!B21="","",Klanten!B21) | I21: =IF(Klanten!B21="","",SUMIF(Uren!$E$6:$E$605,Klanten!B21,Uren!$H$6:$H$605)) | J21: =IF(Klanten!B21="","",SUMIF(Uren!$E$6:$E$605,Klanten!B21,Uren!$I$6:$I$605))
B22: Status | C22: =IF(C15>=C14,"Gehaald",IF(C20>=C14,"Op koers","Achter op schema")) -> Achter op schema | H22: =IF(Klanten!B22="","",Klanten!B22) | I22: =IF(Klanten!B22="","",SUMIF(Uren!$E$6:$E$605,Klanten!B22,Uren!$H$6:$H$605)) | J22: =IF(Klanten!B22="","",SUMIF(Uren!$E$6:$E$605,Klanten!B22,Uren!$I$6:$I$605))
B23: De prognose rekent met je gemiddelde per verstreken week. Vakanties drukken het tempo, dat is normaal. | H23: =IF(Klanten!B23="","",Klanten!B23) | I23: =IF(Klanten!B23="","",SUMIF(Uren!$E$6:$E$605,Klanten!B23,Uren!$H$6:$H$605)) | J23: =IF(Klanten!B23="","",SUMIF(Uren!$E$6:$E$605,Klanten!B23,Uren!$I$6:$I$605))
H24: =IF(Klanten!B24="","",Klanten!B24) | I24: =IF(Klanten!B24="","",SUMIF(Uren!$E$6:$E$605,Klanten!B24,Uren!$H$6:$H$605)) | J24: =IF(Klanten!B24="","",SUMIF(Uren!$E$6:$E$605,Klanten!B24,Uren!$I$6:$I$605))
B25: Per maand | H25: =IF(Klanten!B25="","",Klanten!B25) | I25: =IF(Klanten!B25="","",SUMIF(Uren!$E$6:$E$605,Klanten!B25,Uren!$H$6:$H$605)) | J25: =IF(Klanten!B25="","",SUMIF(Uren!$E$6:$E$605,Klanten!B25,Uren!$I$6:$I$605))
B26: Maand | C26: Direct | D26: Indirect | E26: Totaal | F26: Waarde (€) | H26: =IF(Klanten!B26="","",Klanten!B26) | I26: =IF(Klanten!B26="","",SUMIF(Uren!$E$6:$E$605,Klanten!B26,Uren!$H$6:$H$605)) | J26: =IF(Klanten!B26="","",SUMIF(Uren!$E$6:$E$605,Klanten!B26,Uren!$I$6:$I$605))
B27: januari | C27: =SUMIFS(Uren!$H$6:$H$605,Uren!$G$6:$G$605,"Direct",Uren!$B$6:$B$605,">="&DATE(Start!$C$7,1,1),Uren!$B$6:$B$605,"<"&DATE(Start!$C$7,2,1)) -> 3.5 | D27: =SUMIFS(Uren!$H$6:$H$605,Uren!$G$6:$G$605,"Indirect",Uren!$B$6:$B$605,">="&DATE(Start!$C$7,1,1),Uren!$B$6:$B$605,"<"&DATE(Start!$C$7,2,1)) -> 1.25 | E27: =C27+D27 -> 4.75 | F27: =SUMIFS(Uren!$I$6:$I$605,Uren!$B$6:$B$605,">="&DATE(Start!$C$7,1,1),Uren!$B$6:$B$605,"<"&DATE(Start!$C$7,2,1)) -> 297.5 | H27: =IF(Klanten!B27="","",Klanten!B27) | I27: =IF(Klanten!B27="","",SUMIF(Uren!$E$6:$E$605,Klanten!B27,Uren!$H$6:$H$605)) | J27: =IF(Klanten!B27="","",SUMIF(Uren!$E$6:$E$605,Klanten!B27,Uren!$I$6:$I$605))
B28: februari | C28: =SUMIFS(Uren!$H$6:$H$605,Uren!$G$6:$G$605,"Direct",Uren!$B$6:$B$605,">="&DATE(Start!$C$7,2,1),Uren!$B$6:$B$605,"<"&DATE(Start!$C$7,3,1)) -> 0 | D28: =SUMIFS(Uren!$H$6:$H$605,Uren!$G$6:$G$605,"Indirect",Uren!$B$6:$B$605,">="&DATE(Start!$C$7,2,1),Uren!$B$6:$B$605,"<"&DATE(Start!$C$7,3,1)) -> 0 | E28: =C28+D28 -> 0 | F28: =SUMIFS(Uren!$I$6:$I$605,Uren!$B$6:$B$605,">="&DATE(Start!$C$7,2,1),Uren!$B$6:$B$605,"<"&DATE(Start!$C$7,3,1)) -> 0 | H28: =IF(Klanten!B28="","",Klanten!B28) | I28: =IF(Klanten!B28="","",SUMIF(Uren!$E$6:$E$605,Klanten!B28,Uren!$H$6:$H$605)) | J28: =IF(Klanten!B28="","",SUMIF(Uren!$E$6:$E$605,Klanten!B28,Uren!$I$6:$I$605))
B29: maart | C29: =SUMIFS(Uren!$H$6:$H$605,Uren!$G$6:$G$605,"Direct",Uren!$B$6:$B$605,">="&DATE(Start!$C$7,3,1),Uren!$B$6:$B$605,"<"&DATE(Start!$C$7,4,1)) -> 0 | D29: =SUMIFS(Uren!$H$6:$H$605,Uren!$G$6:$G$605,"Indirect",Uren!$B$6:$B$605,">="&DATE(Start!$C$7,3,1),Uren!$B$6:$B$605,"<"&DATE(Start!$C$7,4,1)) -> 0 | E29: =C29+D29 -> 0 | F29: =SUMIFS(Uren!$I$6:$I$605,Uren!$B$6:$B$605,">="&DATE(Start!$C$7,3,1),Uren!$B$6:$B$605,"<"&DATE(Start!$C$7,4,1)) -> 0 | H29: =IF(Klanten!B29="","",Klanten!B29) | I29: =IF(Klanten!B29="","",SUMIF(Uren!$E$6:$E$605,Klanten!B29,Uren!$H$6:$H$605)) | J29: =IF(Klanten!B29="","",SUMIF(Uren!$E$6:$E$605,Klanten!B29,Uren!$I$6:$I$605))
B30: april | C30: =SUMIFS(Uren!$H$6:$H$605,Uren!$G$6:$G$605,"Direct",Uren!$B$6:$B$605,">="&DATE(Start!$C$7,4,1),Uren!$B$6:$B$605,"<"&DATE(Start!$C$7,5,1)) -> 0 | D30: =SUMIFS(Uren!$H$6:$H$605,Uren!$G$6:$G$605,"Indirect",Uren!$B$6:$B$605,">="&DATE(Start!$C$7,4,1),Uren!$B$6:$B$605,"<"&DATE(Start!$C$7,5,1)) -> 0 | E30: =C30+D30 -> 0 | F30: =SUMIFS(Uren!$I$6:$I$605,Uren!$B$6:$B$605,">="&DATE(Start!$C$7,4,1),Uren!$B$6:$B$605,"<"&DATE(Start!$C$7,5,1)) -> 0 | H30: =IF(Klanten!B30="","",Klanten!B30) | I30: =IF(Klanten!B30="","",SUMIF(Uren!$E$6:$E$605,Klanten!B30,Uren!$H$6:$H$605)) | J30: =IF(Klanten!B30="","",SUMIF(Uren!$E$6:$E$605,Klanten!B30,Uren!$I$6:$I$605))
B31: mei | C31: =SUMIFS(Uren!$H$6:$H$605,Uren!$G$6:$G$605,"Direct",Uren!$B$6:$B$605,">="&DATE(Start!$C$7,5,1),Uren!$B$6:$B$605,"<"&DATE(Start!$C$7,6,1)) -> 0 | D31: =SUMIFS(Uren!$H$6:$H$605,Uren!$G$6:$G$605,"Indirect",Uren!$B$6:$B$605,">="&DATE(Start!$C$7,5,1),Uren!$B$6:$B$605,"<"&DATE(Start!$C$7,6,1)) -> 0 | E31: =C31+D31 -> 0 | F31: =SUMIFS(Uren!$I$6:$I$605,Uren!$B$6:$B$605,">="&DATE(Start!$C$7,5,1),Uren!$B$6:$B$605,"<"&DATE(Start!$C$7,6,1)) -> 0 | H31: =IF(Klanten!B31="","",Klanten!B31) | I31: =IF(Klanten!B31="","",SUMIF(Uren!$E$6:$E$605,Klanten!B31,Uren!$H$6:$H$605)) | J31: =IF(Klanten!B31="","",SUMIF(Uren!$E$6:$E$605,Klanten!B31,Uren!$I$6:$I$605))
B32: juni | C32: =SUMIFS(Uren!$H$6:$H$605,Uren!$G$6:$G$605,"Direct",Uren!$B$6:$B$605,">="&DATE(Start!$C$7,6,1),Uren!$B$6:$B$605,"<"&DATE(Start!$C$7,7,1)) -> 0 | D32: =SUMIFS(Uren!$H$6:$H$605,Uren!$G$6:$G$605,"Indirect",Uren!$B$6:$B$605,">="&DATE(Start!$C$7,6,1),Uren!$B$6:$B$605,"<"&DATE(Start!$C$7,7,1)) -> 0 | E32: =C32+D32 -> 0 | F32: =SUMIFS(Uren!$I$6:$I$605,Uren!$B$6:$B$605,">="&DATE(Start!$C$7,6,1),Uren!$B$6:$B$605,"<"&DATE(Start!$C$7,7,1)) -> 0 | H32: =IF(Klanten!B32="","",Klanten!B32) | I32: =IF(Klanten!B32="","",SUMIF(Uren!$E$6:$E$605,Klanten!B32,Uren!$H$6:$H$605)) | J32: =IF(Klanten!B32="","",SUMIF(Uren!$E$6:$E$605,Klanten!B32,Uren!$I$6:$I$605))
B33: juli | C33: =SUMIFS(Uren!$H$6:$H$605,Uren!$G$6:$G$605,"Direct",Uren!$B$6:$B$605,">="&DATE(Start!$C$7,7,1),Uren!$B$6:$B$605,"<"&DATE(Start!$C$7,8,1)) -> 0 | D33: =SUMIFS(Uren!$H$6:$H$605,Uren!$G$6:$G$605,"Indirect",Uren!$B$6:$B$605,">="&DATE(Start!$C$7,7,1),Uren!$B$6:$B$605,"<"&DATE(Start!$C$7,8,1)) -> 0 | E33: =C33+D33 -> 0 | F33: =SUMIFS(Uren!$I$6:$I$605,Uren!$B$6:$B$605,">="&DATE(Start!$C$7,7,1),Uren!$B$6:$B$605,"<"&DATE(Start!$C$7,8,1)) -> 0 | H33: =IF(Klanten!B33="","",Klanten!B33) | I33: =IF(Klanten!B33="","",SUMIF(Uren!$E$6:$E$605,Klanten!B33,Uren!$H$6:$H$605)) | J33: =IF(Klanten!B33="","",SUMIF(Uren!$E$6:$E$605,Klanten!B33,Uren!$I$6:$I$605))
B34: augustus | C34: =SUMIFS(Uren!$H$6:$H$605,Uren!$G$6:$G$605,"Direct",Uren!$B$6:$B$605,">="&DATE(Start!$C$7,8,1),Uren!$B$6:$B$605,"<"&DATE(Start!$C$7,9,1)) -> 0 | D34: =SUMIFS(Uren!$H$6:$H$605,Uren!$G$6:$G$605,"Indirect",Uren!$B$6:$B$605,">="&DATE(Start!$C$7,8,1),Uren!$B$6:$B$605,"<"&DATE(Start!$C$7,9,1)) -> 0 | E34: =C34+D34 -> 0 | F34: =SUMIFS(Uren!$I$6:$I$605,Uren!$B$6:$B$605,">="&DATE(Start!$C$7,8,1),Uren!$B$6:$B$605,"<"&DATE(Start!$C$7,9,1)) -> 0 | H34: =IF(Klanten!B34="","",Klanten!B34) | I34: =IF(Klanten!B34="","",SUMIF(Uren!$E$6:$E$605,Klanten!B34,Uren!$H$6:$H$605)) | J34: =IF(Klanten!B34="","",SUMIF(Uren!$E$6:$E$605,Klanten!B34,Uren!$I$6:$I$605))
B35: september | C35: =SUMIFS(Uren!$H$6:$H$605,Uren!$G$6:$G$605,"Direct",Uren!$B$6:$B$605,">="&DATE(Start!$C$7,9,1),Uren!$B$6:$B$605,"<"&DATE(Start!$C$7,10,1)) -> 0 | D35: =SUMIFS(Uren!$H$6:$H$605,Uren!$G$6:$G$605,"Indirect",Uren!$B$6:$B$605,">="&DATE(Start!$C$7,9,1),Uren!$B$6:$B$605,"<"&DATE(Start!$C$7,10,1)) -> 0 | E35: =C35+D35 -> 0 | F35: =SUMIFS(Uren!$I$6:$I$605,Uren!$B$6:$B$605,">="&DATE(Start!$C$7,9,1),Uren!$B$6:$B$605,"<"&DATE(Start!$C$7,10,1)) -> 0 | H35: =IF(Klanten!B35="","",Klanten!B35) | I35: =IF(Klanten!B35="","",SUMIF(Uren!$E$6:$E$605,Klanten!B35,Uren!$H$6:$H$605)) | J35: =IF(Klanten!B35="","",SUMIF(Uren!$E$6:$E$605,Klanten!B35,Uren!$I$6:$I$605))
B36: oktober | C36: =SUMIFS(Uren!$H$6:$H$605,Uren!$G$6:$G$605,"Direct",Uren!$B$6:$B$605,">="&DATE(Start!$C$7,10,1),Uren!$B$6:$B$605,"<"&DATE(Start!$C$7,11,1)) -> 0 | D36: =SUMIFS(Uren!$H$6:$H$605,Uren!$G$6:$G$605,"Indirect",Uren!$B$6:$B$605,">="&DATE(Start!$C$7,10,1),Uren!$B$6:$B$605,"<"&DATE(Start!$C$7,11,1)) -> 0 | E36: =C36+D36 -> 0 | F36: =SUMIFS(Uren!$I$6:$I$605,Uren!$B$6:$B$605,">="&DATE(Start!$C$7,10,1),Uren!$B$6:$B$605,"<"&DATE(Start!$C$7,11,1)) -> 0 | H36: Niet toegewezen / overig | I36: =C5-SUM(I6:I35) -> 1.25 | J36: =C9-SUM(J6:J35) -> 0
B37: november | C37: =SUMIFS(Uren!$H$6:$H$605,Uren!$G$6:$G$605,"Direct",Uren!$B$6:$B$605,">="&DATE(Start!$C$7,11,1),Uren!$B$6:$B$605,"<"&DATE(Start!$C$7,12,1)) -> 0 | D37: =SUMIFS(Uren!$H$6:$H$605,Uren!$G$6:$G$605,"Indirect",Uren!$B$6:$B$605,">="&DATE(Start!$C$7,11,1),Uren!$B$6:$B$605,"<"&DATE(Start!$C$7,12,1)) -> 0 | E37: =C37+D37 -> 0 | F37: =SUMIFS(Uren!$I$6:$I$605,Uren!$B$6:$B$605,">="&DATE(Start!$C$7,11,1),Uren!$B$6:$B$605,"<"&DATE(Start!$C$7,12,1)) -> 0
B38: december | C38: =SUMIFS(Uren!$H$6:$H$605,Uren!$G$6:$G$605,"Direct",Uren!$B$6:$B$605,">="&DATE(Start!$C$7,12,1),Uren!$B$6:$B$605,"<"&DATE(Start!$C$7,13,1)) -> 0 | D38: =SUMIFS(Uren!$H$6:$H$605,Uren!$G$6:$G$605,"Indirect",Uren!$B$6:$B$605,">="&DATE(Start!$C$7,12,1),Uren!$B$6:$B$605,"<"&DATE(Start!$C$7,13,1)) -> 0 | E38: =C38+D38 -> 0 | F38: =SUMIFS(Uren!$I$6:$I$605,Uren!$B$6:$B$605,">="&DATE(Start!$C$7,12,1),Uren!$B$6:$B$605,"<"&DATE(Start!$C$7,13,1)) -> 0
B39: Totaal | C39: =SUM(C27:C38) -> 3.5 | D39: =SUM(D27:D38) -> 1.25 | E39: =SUM(E27:E38) -> 4.75 | F39: =SUM(F27:F38) -> 297.5
B41: Uren zonder datum tellen wel mee in de kerncijfers, maar niet per maand. Rode regels op het tabblad Uren zijn onvolledig.
B43: Bewijsschrift.nl · Jouw zaken juridisch dichtgetimmerd · www.bewijsschrift.nl

Sheet Klanten
B2: Klanten en projecten
B3: Vul hier je klanten in. Ze verschijnen als keuzelijst op het tabblad Uren. Afwijkend tarief mag leeg blijven.
B5: Klant / project | C5: Uurtarief (optioneel)
B6: Voorbeeld B.V. | C6: 85
B37: Voorbeeld B.V. is een voorbeeldregel, overschrijf die gerust.
B39: Bewijsschrift.nl · Jouw zaken juridisch dichtgetimmerd · www.bewijsschrift.nl

Sheet Uren
B2: Urenregistratie | E2: =Start!C6&" · "&Start!C7 -> Mijn Onderneming · 2026
B3: Vul per regel: datum, klant, omschrijving, soort en aantal uren (kwartieren mogen, bijv. 2,25). Dag en week worden automatisch ingevuld.
B5: Datum | C5: Dag | D5: Week | E5: Klant / project | F5: Omschrijving werkzaamheden | G5: Soort | H5: Uren | I5: Waarde (€)
B6: 46027 | C6: =IF(B6="","",CHOOSE(WEEKDAY(B6,2),"ma","di","wo","do","vr","za","zo")) -> ma | D6: =IF(B6="","",_xlfn.ISOWEEKNUM(B6)) -> 2 | E6: Voorbeeld B.V. | F6: Opzet administratie en offerte opgesteld | G6: Direct | H6: 3.5 | I6: =IF(OR(H6="",G6<>"Direct"),"",H6*IF(AND(E6<>"",ISNUMBER(MATCH(E6,Klanten!$B$6:$B$35,0)),ISNUMBER(INDEX(Klanten!$C$6:$C$35,MATCH(E6,Klanten!$B$6:$B$35,0)))),INDEX(Klanten!$C$6:$C$35,MATCH(E6,Klanten!$B$6:$B$35,0)),Start!$C$8)) -> 297.5
B7: 46027 | C7: =IF(B7="","",CHOOSE(WEEKDAY(B7,2),"ma","di","wo","do","vr","za","zo")) -> ma | D7: =IF(B7="","",_xlfn.ISOWEEKNUM(B7)) -> 2 | E7: Eigen onderneming | F7: Boekhouding bijgewerkt, facturen verstuurd | G7: Indirect | H7: 1.25 | I7: =IF(OR(H7="",G7<>"Direct"),"",H7*IF(AND(E7<>"",ISNUMBER(MATCH(E7,Klanten!$B$6:$B$35,0)),ISNUMBER(INDEX(Klanten!$C$6:$C$35,MATCH(E7,Klanten!$B$6:$B$35,0)))),INDEX(Klanten!$C$6:$C$35,MATCH(E7,Klanten!$B$6:$B$35,0)),Start!$C$8))
C8: =IF(B8="","",CHOOSE(WEEKDAY(B8,2),"ma","di","wo","do","vr","za","zo")) | D8: =IF(B8="","",_xlfn.ISOWEEKNUM(B8)) | I8: =IF(OR(H8="",G8<>"Direct"),"",H8*IF(AND(E8<>"",ISNUMBER(MATCH(E8,Klanten!$B$6:$B$35,0)),ISNUMBER(INDEX(Klanten!$C$6:$C$35,MATCH(E8,Klanten!$B$6:$B$35,0)))),INDEX(Klanten!$C$6:$C$35,MATCH(E8,Klanten!$B$6:$B$35,0)),Start!$C$8))
C9: =IF(B9="","",CHOOSE(WEEKDAY(B9,2),"ma","di","wo","do","vr","za","zo")) | D9: =IF(B9="","",_xlfn.ISOWEEKNUM(B9)) | I9: =IF(OR(H9="",G9<>"Direct"),"",H9*IF(AND(E9<>"",ISNUMBER(MATCH(E9,Klanten!$B$6:$B$35,0)),ISNUMBER(INDEX(Klanten!$C$6:$C$35,MATCH(E9,Klanten!$B$6:$B$35,0)))),INDEX(Klanten!$C$6:$C$35,MATCH(E9,Klanten!$B$6:$B$35,0)),Start!$C$8))
C10: =IF(B10="","",CHOOSE(WEEKDAY(B10,2),"ma","di","wo","do","vr","za","zo")) | D10: =IF(B10="","",_xlfn.ISOWEEKNUM(B10)) | I10: =IF(OR(H10="",G10<>"Direct"),"",H10*IF(AND(E10<>"",ISNUMBER(MATCH(E10,Klanten!$B$6:$B$35,0)),ISNUMBER(INDEX(Klanten!$C$6:$C$35,MATCH(E10,Klanten!$B$6:$B$35,0)))),INDEX(Klanten!$C$6:$C$35,MATCH(E10,Klanten!$B$6:$B$35,0)),Start!$C$8))
C11: =IF(B11="","",CHOOSE(WEEKDAY(B11,2),"ma","di","wo","do","vr","za","zo")) | D11: =IF(B11="","",_xlfn.ISOWEEKNUM(B11)) | I11: =IF(OR(H11="",G11<>"Direct"),"",H11*IF(AND(E11<>"",ISNUMBER(MATCH(E11,Klanten!$B$6:$B$35,0)),ISNUMBER(INDEX(Klanten!$C$6:$C$35,MATCH(E11,Klanten!$B$6:$B$35,0)))),INDEX(Klanten!$C$6:$C$35,MATCH(E11,Klanten!$B$6:$B$35,0)),Start!$C$8))
C12: =IF(B12="","",CHOOSE(WEEKDAY(B12,2),"ma","di","wo","do","vr","za","zo")) | D12: =IF(B12="","",_xlfn.ISOWEEKNUM(B12)) | I12: =IF(OR(H12="",G12<>"Direct"),"",H12*IF(AND(E12<>"",ISNUMBER(MATCH(E12,Klanten!$B$6:$B$35,0)),ISNUMBER(INDEX(Klanten!$C$6:$C$35,MATCH(E12,Klanten!$B$6:$B$35,0)))),INDEX(Klanten!$C$6:$C$35,MATCH(E12,Klanten!$B$6:$B$35,0)),Start!$C$8))
C13: =IF(B13="","",CHOOSE(WEEKDAY(B13,2),"ma","di","wo","do","vr","za","zo")) | D13: =IF(B13="","",_xlfn.ISOWEEKNUM(B13)) | I13: =IF(OR(H13="",G13<>"Direct"),"",H13*IF(AND(E13<>"",ISNUMBER(MATCH(E13,Klanten!$B$6:$B$35,0)),ISNUMBER(INDEX(Klanten!$C$6:$C$35,MATCH(E13,Klanten!$B$6:$B$35,0)))),INDEX(Klanten!$C$6:$C$35,MATCH(E13,Klanten!$B$6:$B$35,0)),Start!$C$8))
C14: =IF(B14="","",CHOOSE(WEEKDAY(B14,2),"ma","di","wo","do","vr","za","zo")) | D14: =IF(B14="","",_xlfn.ISOWEEKNUM(B14)) | I14: =IF(OR(H14="",G14<>"Direct"),"",H14*IF(AND(E14<>"",ISNUMBER(MATCH(E14,Klanten!$B$6:$B$35,0)),ISNUMBER(INDEX(Klanten!$C$6:$C$35,MATCH(E14,Klanten!$B$6:$B$35,0)))),INDEX(Klanten!$C$6:$C$35,MATCH(E14,Klanten!$B$6:$B$35,0)),Start!$C$8))
C15: =IF(B15="","",CHOOSE(WEEKDAY(B15,2),"ma","di","wo","do","vr","za","zo")) | D15: =IF(B15="","",_xlfn.ISOWEEKNUM(B15)) | I15: =IF(OR(H15="",G15<>"Direct"),"",H15*IF(AND(E15<>"",ISNUMBER(MATCH(E15,Klanten!$B$6:$B$35,0)),ISNUMBER(INDEX(Klanten!$C$6:$C$35,MATCH(E15,Klanten!$B$6:$B$35,0)))),INDEX(Klanten!$C$6:$C$35,MATCH(E15,Klanten!$B$6:$B$35,0)),Start!$C$8))
C16: =IF(B16="","",CHOOSE(WEEKDAY(B16,2),"ma","di","wo","do","vr","za","zo")) | D16: =IF(B16="","",_xlfn.ISOWEEKNUM(B16)) | I16: =IF(OR(H16="",G16<>"Direct"),"",H16*IF(AND(E16<>"",ISNUMBER(MATCH(E16,Klanten!$B$6:$B$35,0)),ISNUMBER(INDEX(Klanten!$C$6:$C$35,MATCH(E16,Klanten!$B$6:$B$35,0)))),INDEX(Klanten!$C$6:$C$35,MATCH(E16,Klanten!$B$6:$B$35,0)),Start!$C$8))
C17: =IF(B17="","",CHOOSE(WEEKDAY(B17,2),"ma","di","wo","do","vr","za","zo")) | D17: =IF(B17="","",_xlfn.ISOWEEKNUM(B17)) | I17: =IF(OR(H17="",G17<>"Direct"),"",H17*IF(AND(E17<>"",ISNUMBER(MATCH(E17,Klanten!$B$6:$B$35,0)),ISNUMBER(INDEX(Klanten!$C$6:$C$35,MATCH(E17,Klanten!$B$6:$B$35,0)))),INDEX(Klanten!$C$6:$C$35,MATCH(E17,Klanten!$B$6:$B$35,0)),Start!$C$8))
C18: =IF(B18="","",CHOOSE(WEEKDAY(B18,2),"ma","di","wo","do","vr","za","zo")) | D18: =IF(B18="","",_xlfn.ISOWEEKNUM(B18)) | I18: =IF(OR(H18="",G18<>"Direct"),"",H18*IF(AND(E18<>"",ISNUMBER(MATCH(E18,Klanten!$B$6:$B$35,0)),ISNUMBER(INDEX(Klanten!$C$6:$C$35,MATCH(E18,Klanten!$B$6:$B$35,0)))),INDEX(Klanten!$C$6:$C$35,MATCH(E18,Klanten!$B$6:$B$35,0)),Start!$C$8))
C19: =IF(B19="","",CHOOSE(WEEKDAY(B19,2),"ma","di","wo","do","vr","za","zo")) | D19: =IF(B19="","",_xlfn.ISOWEEKNUM(B19)) | I19: =IF(OR(H19="",G19<>"Direct"),"",H19*IF(AND(E19<>"",ISNUMBER(MATCH(E19,Klanten!$B$6:$B$35,0)),ISNUMBER(INDEX(Klanten!$C$6:$C$35,MATCH(E19,Klanten!$B$6:$B$35,0)))),INDEX(Klanten!$C$6:$C$35,MATCH(E19,Klanten!$B$6:$B$35,0)),Start!$C$8))
... C605: =IF(B605="","",CHOOSE(WEEKDAY(B605,2),"ma","di","wo","do","vr","za","zo")) | D605: =IF(B605="","",_xlfn.ISOWEEKNUM(B605)) | I605: =IF(OR(H605="",G605<>"Direct"),"",H605*IF(AND(E605<>"",ISNUMBER(MATCH(E605,Klanten!$B$6:$B$35,0)),ISNUMBER(INDEX(Klanten!$C$6:$C$35,MATCH(E605,Klanten!$B$6:$B$35,0)))),INDEX(Klanten!$C$6:$C$35,MATCH(E605,Klanten!$B$6:$B$35,0)),Start!$C$8))
B607: Voorbeeldregels op rij 6 en 7 mag je overschrijven. Ruimte voor 600 regels; genoeg voor twee regels per werkdag.
